BEGIN:VCALENDAR
VERSION:2.0
PRODID:-//Etablissement St Amand de Bayonne - ECPv4.6.22.1//NONSGML v1.0//EN
CALSCALE:GREGORIAN
METHOD:PUBLISH
X-WR-CALNAME:Etablissement St Amand de Bayonne
X-ORIGINAL-URL:https://saintamandbayonne.fr
X-WR-CALDESC:Évènements pour Etablissement St Amand de Bayonne
BEGIN:VEVENT
DTSTART;TZID=Europe/Paris:20240612T083000
DTEND;TZID=Europe/Paris:20240612T123000
DTSTAMP:20260420T135623
CREATED:20240401T100342Z
LAST-MODIFIED:20240401T100342Z
UID:10051-1718181000-1718195400@saintamandbayonne.fr
SUMMARY:Oral du DNB
DESCRIPTION:
URL:https://saintamandbayonne.fr/event/oral-du-dnb-5/
END:VEVENT
END:VCALENDAR