BEGIN:VCALENDAR
VERSION:2.0
PRODID:-//Etablissement St Amand de Bayonne - ECPv4.6.22.1//NONSGML v1.0//EN
CALSCALE:GREGORIAN
METHOD:PUBLISH
X-WR-CALNAME:Etablissement St Amand de Bayonne
X-ORIGINAL-URL:https://saintamandbayonne.fr
X-WR-CALDESC:Évènements pour Etablissement St Amand de Bayonne
BEGIN:VEVENT
DTSTART;TZID=Europe/Paris:20240617T080000
DTEND;TZID=Europe/Paris:20240618T170000
DTSTAMP:20260420T135125
CREATED:20240426T121518Z
LAST-MODIFIED:20240426T121518Z
UID:10115-1718611200-1718730000@saintamandbayonne.fr
SUMMARY:Les 5è au Futuroscope
DESCRIPTION:
URL:https://saintamandbayonne.fr/event/les-5e-au-futuroscope/
END:VEVENT
BEGIN:VEVENT
DTSTART;TZID=Europe/Paris:20240617T080000
DTEND;TZID=Europe/Paris:20240618T170000
DTSTAMP:20260420T135125
CREATED:20240426T121558Z
LAST-MODIFIED:20240426T121558Z
UID:10117-1718611200-1718730000@saintamandbayonne.fr
SUMMARY:Sortie voile des CM1
DESCRIPTION:
URL:https://saintamandbayonne.fr/event/sortie-voile-des-cm1/
END:VEVENT
END:VCALENDAR