BEGIN:VCALENDAR
VERSION:2.0
PRODID:-//Etablissement St Amand de Bayonne - ECPv4.6.22.1//NONSGML v1.0//EN
CALSCALE:GREGORIAN
METHOD:PUBLISH
X-WR-CALNAME:Etablissement St Amand de Bayonne
X-ORIGINAL-URL:https://saintamandbayonne.fr
X-WR-CALDESC:Évènements pour Etablissement St Amand de Bayonne
BEGIN:VEVENT
DTSTART;TZID=Europe/Paris:20240701T090000
DTEND;TZID=Europe/Paris:20240701T163000
DTSTAMP:20260420T134047
CREATED:20240426T121937Z
LAST-MODIFIED:20240426T121937Z
UID:10127-1719824400-1719851400@saintamandbayonne.fr
SUMMARY:DNB Français et Maths
DESCRIPTION:
URL:https://saintamandbayonne.fr/event/dnb-francais-et-maths/
END:VEVENT
END:VCALENDAR