BEGIN:VCALENDAR
VERSION:2.0
PRODID:-//Etablissement St Amand de Bayonne - ECPv4.6.22.1//NONSGML v1.0//EN
CALSCALE:GREGORIAN
METHOD:PUBLISH
X-WR-CALNAME:Etablissement St Amand de Bayonne
X-ORIGINAL-URL:https://saintamandbayonne.fr
X-WR-CALDESC:Évènements pour Etablissement St Amand de Bayonne
BEGIN:VEVENT
DTSTART;TZID=Europe/Paris:20240903T083000
DTEND;TZID=Europe/Paris:20240903T170000
DTSTAMP:20260420T091728
CREATED:20240705T200920Z
LAST-MODIFIED:20240705T200920Z
UID:10561-1725352200-1725382800@saintamandbayonne.fr
SUMMARY:Rentrée des 5è\, 4è et 3è
DESCRIPTION:
URL:https://saintamandbayonne.fr/event/rentree-des-5e-4e-et-3e/
END:VEVENT
END:VCALENDAR