BEGIN:VCALENDAR
VERSION:2.0
PRODID:-//Etablissement St Amand de Bayonne - ECPv4.6.22.1//NONSGML v1.0//EN
CALSCALE:GREGORIAN
METHOD:PUBLISH
X-WR-CALNAME:Etablissement St Amand de Bayonne
X-ORIGINAL-URL:https://saintamandbayonne.fr
X-WR-CALDESC:Évènements pour Etablissement St Amand de Bayonne
BEGIN:VEVENT
DTSTART;TZID=Europe/Paris:20240909T170000
DTEND;TZID=Europe/Paris:20240909T183000
DTSTAMP:20260420T091854
CREATED:20240829T150711Z
LAST-MODIFIED:20240829T150711Z
UID:10576-1725901200-1725906600@saintamandbayonne.fr
SUMMARY:Réunion de rentrée 5è
DESCRIPTION:
URL:https://saintamandbayonne.fr/event/reunion-de-rentree-5e/
END:VEVENT
END:VCALENDAR