BEGIN:VCALENDAR
VERSION:2.0
PRODID:-//Etablissement St Amand de Bayonne - ECPv4.6.22.1//NONSGML v1.0//EN
CALSCALE:GREGORIAN
METHOD:PUBLISH
X-WR-CALNAME:Etablissement St Amand de Bayonne
X-ORIGINAL-URL:https://saintamandbayonne.fr
X-WR-CALDESC:Évènements pour Etablissement St Amand de Bayonne
BEGIN:VEVENT
DTSTART;TZID=Europe/Paris:20240910T170000
DTEND;TZID=Europe/Paris:20240910T183000
DTSTAMP:20260420T091551
CREATED:20240829T150754Z
LAST-MODIFIED:20240829T150754Z
UID:10578-1725987600-1725993000@saintamandbayonne.fr
SUMMARY:Réunion de rentrée 4è
DESCRIPTION:
URL:https://saintamandbayonne.fr/event/reunion-de-rentree-4e/
END:VEVENT
END:VCALENDAR