BEGIN:VCALENDAR
VERSION:2.0
PRODID:-//Etablissement St Amand de Bayonne - ECPv4.6.22.1//NONSGML v1.0//EN
CALSCALE:GREGORIAN
METHOD:PUBLISH
X-WR-CALNAME:Etablissement St Amand de Bayonne
X-ORIGINAL-URL:https://saintamandbayonne.fr
X-WR-CALDESC:Évènements pour Etablissement St Amand de Bayonne
BEGIN:VEVENT
DTSTART;TZID=Europe/Paris:20241118T170000
DTEND;TZID=Europe/Paris:20241118T200000
DTSTAMP:20260420T060327
CREATED:20241008T140910Z
LAST-MODIFIED:20241008T140910Z
UID:10638-1731949200-1731960000@saintamandbayonne.fr
SUMMARY:Conseils de classe de 5A et 5B
DESCRIPTION:
URL:https://saintamandbayonne.fr/event/conseils-de-classe-de-5a-et-5b-4/
END:VEVENT
END:VCALENDAR