BEGIN:VCALENDAR
VERSION:2.0
PRODID:-//Etablissement St Amand de Bayonne - ECPv4.6.22.1//NONSGML v1.0//EN
CALSCALE:GREGORIAN
METHOD:PUBLISH
X-WR-CALNAME:Etablissement St Amand de Bayonne
X-ORIGINAL-URL:https://saintamandbayonne.fr
X-WR-CALDESC:Évènements pour Etablissement St Amand de Bayonne
BEGIN:VEVENT
DTSTART;TZID=Europe/Paris:20241203T170000
DTEND;TZID=Europe/Paris:20241203T200000
DTSTAMP:20260420T055403
CREATED:20241111T125327Z
LAST-MODIFIED:20241111T125327Z
UID:10694-1733245200-1733256000@saintamandbayonne.fr
SUMMARY:Conseils de classe de 3C et 4A
DESCRIPTION:
URL:https://saintamandbayonne.fr/event/conseils-de-classe-de-3c-et-4a-5/
END:VEVENT
END:VCALENDAR