BEGIN:VCALENDAR
VERSION:2.0
PRODID:-//Etablissement St Amand de Bayonne - ECPv4.6.22.1//NONSGML v1.0//EN
CALSCALE:GREGORIAN
METHOD:PUBLISH
X-WR-CALNAME:Etablissement St Amand de Bayonne
X-ORIGINAL-URL:https://saintamandbayonne.fr
X-WR-CALDESC:Évènements pour Etablissement St Amand de Bayonne
BEGIN:VEVENT
DTSTART;TZID=Europe/Paris:20250120T113000
DTEND;TZID=Europe/Paris:20250120T123000
DTSTAMP:20260420T023559
CREATED:20250122T141221Z
LAST-MODIFIED:20250122T141221Z
UID:10806-1737372600-1737376200@saintamandbayonne.fr
SUMMARY:Rencontre entre les 5è et un agriculteur
DESCRIPTION:Arnaud Bidart\, agriculteur\, présente son métier aux élèves de 5è \n
URL:https://saintamandbayonne.fr/event/rencontre-entre-les-5e-et-un-agriculteur/
END:VEVENT
END:VCALENDAR