BEGIN:VCALENDAR
VERSION:2.0
PRODID:-//Etablissement St Amand de Bayonne - ECPv4.6.22.1//NONSGML v1.0//EN
CALSCALE:GREGORIAN
METHOD:PUBLISH
X-WR-CALNAME:Etablissement St Amand de Bayonne
X-ORIGINAL-URL:https://saintamandbayonne.fr
X-WR-CALDESC:Évènements pour Etablissement St Amand de Bayonne
BEGIN:VEVENT
DTSTART;TZID=Europe/Paris:20250203T180000
DTEND;TZID=Europe/Paris:20250203T190000
DTSTAMP:20260420T004727
CREATED:20250122T141108Z
LAST-MODIFIED:20250122T141108Z
UID:10804-1738605600-1738609200@saintamandbayonne.fr
SUMMARY:Présentation des lycées aux parents de 3è
DESCRIPTION:Les directeurs des lycées du BAB et au delà viennent présenter leurs établissements et les spécialités aux parents et aux élèves de 3è en salle d’étude (3è étage) \n
URL:https://saintamandbayonne.fr/event/presentation-des-lycees-aux-parents-de-3e/
END:VEVENT
END:VCALENDAR