BEGIN:VCALENDAR
VERSION:2.0
PRODID:-//Etablissement St Amand de Bayonne - ECPv4.6.22.1//NONSGML v1.0//EN
CALSCALE:GREGORIAN
METHOD:PUBLISH
X-WR-CALNAME:Etablissement St Amand de Bayonne
X-ORIGINAL-URL:https://saintamandbayonne.fr
X-WR-CALDESC:Évènements pour Etablissement St Amand de Bayonne
BEGIN:VEVENT
DTSTART;TZID=Europe/Paris:20250318T170000
DTEND;TZID=Europe/Paris:20250318T200000
DTSTAMP:20260419T231218
CREATED:20250315T134605Z
LAST-MODIFIED:20250315T134605Z
UID:10961-1742317200-1742328000@saintamandbayonne.fr
SUMMARY:Conseils de classe en 6A et 5C
DESCRIPTION:
URL:https://saintamandbayonne.fr/event/conseils-de-classe-en-6a-et-5c/
END:VEVENT
END:VCALENDAR