BEGIN:VCALENDAR
VERSION:2.0
PRODID:-//Etablissement St Amand de Bayonne - ECPv4.6.22.1//NONSGML v1.0//EN
CALSCALE:GREGORIAN
METHOD:PUBLISH
X-WR-CALNAME:Etablissement St Amand de Bayonne
X-ORIGINAL-URL:https://saintamandbayonne.fr
X-WR-CALDESC:Évènements pour Etablissement St Amand de Bayonne
BEGIN:VEVENT
DTSTART;TZID=Europe/Paris:20250325T083000
DTEND;TZID=Europe/Paris:20250325T163000
DTSTAMP:20260419T231627
CREATED:20250315T133751Z
LAST-MODIFIED:20250315T133751Z
UID:10942-1742891400-1742920200@saintamandbayonne.fr
SUMMARY:Concours de Une en 4A
DESCRIPTION:
URL:https://saintamandbayonne.fr/event/concours-de-une-en-4a/
END:VEVENT
BEGIN:VEVENT
DTSTART;TZID=Europe/Paris:20250325T133000
DTEND;TZID=Europe/Paris:20250325T163000
DTSTAMP:20260419T231627
CREATED:20250315T133928Z
LAST-MODIFIED:20250315T133928Z
UID:10944-1742909400-1742920200@saintamandbayonne.fr
SUMMARY:Temps fort en 4è et 3è
DESCRIPTION:Comment bien vivre son adolescence ? \n
URL:https://saintamandbayonne.fr/event/temps-fort-en-4e-et-3e/
END:VEVENT
BEGIN:VEVENT
DTSTART;TZID=Europe/Paris:20250325T133000
DTEND;TZID=Europe/Paris:20250325T143000
DTSTAMP:20260419T231627
CREATED:20250315T134253Z
LAST-MODIFIED:20250315T134253Z
UID:10952-1742909400-1742913000@saintamandbayonne.fr
SUMMARY:Intervention TRANSDEV (transport et sécurité) en 6C
DESCRIPTION:
URL:https://saintamandbayonne.fr/event/intervention-transdev-transport-et-securite-en-6c/
END:VEVENT
BEGIN:VEVENT
DTSTART;TZID=Europe/Paris:20250325T143000
DTEND;TZID=Europe/Paris:20250325T153000
DTSTAMP:20260419T231627
CREATED:20250315T134320Z
LAST-MODIFIED:20250315T134320Z
UID:10954-1742913000-1742916600@saintamandbayonne.fr
SUMMARY:Intervention TRANSDEV (transport et sécurité) en 6A
DESCRIPTION:
URL:https://saintamandbayonne.fr/event/intervention-transdev-transport-et-securite-en-6a/
END:VEVENT
BEGIN:VEVENT
DTSTART;TZID=Europe/Paris:20250325T153000
DTEND;TZID=Europe/Paris:20250325T163000
DTSTAMP:20260419T231627
CREATED:20250315T134348Z
LAST-MODIFIED:20250315T134348Z
UID:10957-1742916600-1742920200@saintamandbayonne.fr
SUMMARY:Intervention TRANSDEV (transport et sécurité) en 5C
DESCRIPTION:
URL:https://saintamandbayonne.fr/event/intervention-transdev-transport-et-securite-en-5c/
END:VEVENT
BEGIN:VEVENT
DTSTART;TZID=Europe/Paris:20250325T170000
DTEND;TZID=Europe/Paris:20250325T200000
DTSTAMP:20260419T231627
CREATED:20250315T134741Z
LAST-MODIFIED:20250315T134741Z
UID:10967-1742922000-1742932800@saintamandbayonne.fr
SUMMARY:Conseils de classe en 4A et 3C
DESCRIPTION:
URL:https://saintamandbayonne.fr/event/conseils-de-classe-en-4a-et-3c/
END:VEVENT
END:VCALENDAR