BEGIN:VCALENDAR
VERSION:2.0
PRODID:-//Etablissement St Amand de Bayonne - ECPv4.6.22.1//NONSGML v1.0//EN
CALSCALE:GREGORIAN
METHOD:PUBLISH
X-WR-CALNAME:Etablissement St Amand de Bayonne
X-ORIGINAL-URL:https://saintamandbayonne.fr
X-WR-CALDESC:Évènements pour Etablissement St Amand de Bayonne
BEGIN:VEVENT
DTSTART;TZID=Europe/Paris:20250402T080000
DTEND;TZID=Europe/Paris:20250407T170000
DTSTAMP:20260419T214052
CREATED:20250323T164151Z
LAST-MODIFIED:20250323T164151Z
UID:11012-1743580800-1744045200@saintamandbayonne.fr
SUMMARY:3èmes à Barcelone
DESCRIPTION:
URL:https://saintamandbayonne.fr/event/3emes-a-barcelone/
END:VEVENT
BEGIN:VEVENT
DTSTART;TZID=Europe/Paris:20250407T080000
DTEND;TZID=Europe/Paris:20250411T170000
DTSTAMP:20260419T214052
CREATED:20250323T164117Z
LAST-MODIFIED:20250323T164117Z
UID:11010-1744012800-1744390800@saintamandbayonne.fr
SUMMARY:4èmes et 3èmes SEA en Normandie
DESCRIPTION:
URL:https://saintamandbayonne.fr/event/4emes-et-3emes-sea-en-normandie/
END:VEVENT
END:VCALENDAR