BEGIN:VCALENDAR
VERSION:2.0
PRODID:-//Etablissement St Amand de Bayonne - ECPv4.6.22.1//NONSGML v1.0//EN
CALSCALE:GREGORIAN
METHOD:PUBLISH
X-WR-CALNAME:Etablissement St Amand de Bayonne
X-ORIGINAL-URL:https://saintamandbayonne.fr
X-WR-CALDESC:Évènements pour Etablissement St Amand de Bayonne
BEGIN:VEVENT
DTSTART;TZID=Europe/Paris:20250513T080000
DTEND;TZID=Europe/Paris:20250514T170000
DTSTAMP:20260419T200246
CREATED:20250323T164638Z
LAST-MODIFIED:20250323T164638Z
UID:11026-1747123200-1747242000@saintamandbayonne.fr
SUMMARY:Brevet blanc
DESCRIPTION:
URL:https://saintamandbayonne.fr/event/brevet-blanc-14/
END:VEVENT
END:VCALENDAR