BEGIN:VCALENDAR
VERSION:2.0
PRODID:-//Etablissement St Amand de Bayonne - ECPv4.6.22.1//NONSGML v1.0//EN
CALSCALE:GREGORIAN
METHOD:PUBLISH
X-WR-CALNAME:Etablissement St Amand de Bayonne
X-ORIGINAL-URL:https://saintamandbayonne.fr
X-WR-CALDESC:Évènements pour Etablissement St Amand de Bayonne
BEGIN:VEVENT
DTSTART;TZID=Europe/Paris:20250515T083000
DTEND;TZID=Europe/Paris:20250515T113000
DTSTAMP:20260419T200413
CREATED:20250415T133319Z
LAST-MODIFIED:20250415T133319Z
UID:11087-1747297800-1747308600@saintamandbayonne.fr
SUMMARY:ASSR2
DESCRIPTION:
URL:https://saintamandbayonne.fr/event/assr2/
END:VEVENT
END:VCALENDAR