BEGIN:VCALENDAR
VERSION:2.0
PRODID:-//Etablissement St Amand de Bayonne - ECPv4.6.22.1//NONSGML v1.0//EN
CALSCALE:GREGORIAN
METHOD:PUBLISH
X-WR-CALNAME:Etablissement St Amand de Bayonne
X-ORIGINAL-URL:https://saintamandbayonne.fr
X-WR-CALDESC:Évènements pour Etablissement St Amand de Bayonne
BEGIN:VEVENT
DTSTART;TZID=Europe/Paris:20250603T200000
DTEND;TZID=Europe/Paris:20250603T230000
DTSTAMP:20260419T200244
CREATED:20250523T144124Z
LAST-MODIFIED:20250523T144124Z
UID:11166-1748980800-1748991600@saintamandbayonne.fr
SUMMARY:Concert Jazz in collège
DESCRIPTION:
URL:https://saintamandbayonne.fr/event/concert-jazz-in-college-3/
END:VEVENT
END:VCALENDAR