BEGIN:VCALENDAR
VERSION:2.0
PRODID:-//Etablissement St Amand de Bayonne - ECPv4.6.22.1//NONSGML v1.0//EN
CALSCALE:GREGORIAN
METHOD:PUBLISH
X-WR-CALNAME:Etablissement St Amand de Bayonne
X-ORIGINAL-URL:https://saintamandbayonne.fr
X-WR-CALDESC:Évènements pour Etablissement St Amand de Bayonne
BEGIN:VEVENT
DTSTART;TZID=Europe/Paris:20250606T123000
DTEND;TZID=Europe/Paris:20250606T190000
DTSTAMP:20260419T181923
CREATED:20250523T144800Z
LAST-MODIFIED:20250523T144800Z
UID:11173-1749213000-1749236400@saintamandbayonne.fr
SUMMARY:Conseils de classe des 6èmes
DESCRIPTION:
URL:https://saintamandbayonne.fr/event/conseils-de-classe-des-6emes-2/
END:VEVENT
END:VCALENDAR