BEGIN:VCALENDAR
VERSION:2.0
PRODID:-//Etablissement St Amand de Bayonne - ECPv4.6.22.1//NONSGML v1.0//EN
CALSCALE:GREGORIAN
METHOD:PUBLISH
X-WR-CALNAME:Etablissement St Amand de Bayonne
X-ORIGINAL-URL:https://saintamandbayonne.fr
X-WR-CALDESC:Évènements pour Etablissement St Amand de Bayonne
BEGIN:VEVENT
DTSTART;VALUE=DATE:20250703
DTEND;VALUE=DATE:20250704
DTSTAMP:20260419T164351
CREATED:20250614T130138Z
LAST-MODIFIED:20250614T130138Z
UID:11305-1751500800-1751587199@saintamandbayonne.fr
SUMMARY:Vacances pour les écoliers
DESCRIPTION:
URL:https://saintamandbayonne.fr/event/vacances-pour-les-ecoliers/
END:VEVENT
END:VCALENDAR