BEGIN:VCALENDAR
VERSION:2.0
PRODID:-//Etablissement St Amand de Bayonne - ECPv4.6.22.1//NONSGML v1.0//EN
CALSCALE:GREGORIAN
METHOD:PUBLISH
X-WR-CALNAME:Etablissement St Amand de Bayonne
X-ORIGINAL-URL:https://saintamandbayonne.fr
X-WR-CALDESC:Évènements pour Etablissement St Amand de Bayonne
BEGIN:VEVENT
DTSTART;TZID=Europe/Paris:20250901T083000
DTEND;TZID=Europe/Paris:20250901T170000
DTSTAMP:20260419T134306
CREATED:20250731T122652Z
LAST-MODIFIED:20250731T122652Z
UID:11529-1756715400-1756746000@saintamandbayonne.fr
SUMMARY:Rentrée des maternelles\, des primaires et des 6èmes
DESCRIPTION:
URL:https://saintamandbayonne.fr/event/rentree-des-maternelles-des-primaires-et-des-6emes/
END:VEVENT
END:VCALENDAR